BEGIN:VCALENDAR
VERSION:2.0
PRODID:-//Style Danse 71 - ECPv6.2.0//NONSGML v1.0//EN
CALSCALE:GREGORIAN
METHOD:PUBLISH
X-WR-CALNAME:Style Danse 71
X-ORIGINAL-URL:https://www.ecole-style-danse-71.eu
X-WR-CALDESC:évènements pour Style Danse 71
REFRESH-INTERVAL;VALUE=DURATION:PT1H
X-Robots-Tag:noindex
X-PUBLISHED-TTL:PT1H
BEGIN:VTIMEZONE
TZID:Europe/Paris
BEGIN:DAYLIGHT
TZOFFSETFROM:+0100
TZOFFSETTO:+0200
TZNAME:CEST
DTSTART:20230326T010000
END:DAYLIGHT
BEGIN:STANDARD
TZOFFSETFROM:+0200
TZOFFSETTO:+0100
TZNAME:CET
DTSTART:20231029T010000
END:STANDARD
END:VTIMEZONE
BEGIN:VEVENT
DTSTART;TZID=Europe/Paris:20231201T190000
DTEND;TZID=Europe/Paris:20231201T210000
DTSTAMP:20260422T154031
CREATED:20230815T184528Z
LAST-MODIFIED:20230815T190046Z
UID:954-1701457200-1701464400@www.ecole-style-danse-71.eu
SUMMARY:Découvrez le Balboa ! - 3ème session
DESCRIPTION:Découvrez l’élégance du Balboa lors du stage de danse le 1 décembre ! \n  \nEvolution 3 (19h – 20h) : Si vous n’avez jamais dansé le Balboa auparavant\, c’est l’opportunité idéale pour vous initier à cette danse unique. \n  \nPour les intermédiaires (20h – 21h) : Si vous avez déjà une expérience du Balboa\, cette session est conçue pour vous faire progresser vers des niveaux plus avancés.
URL:https://www.ecole-style-danse-71.eu/evenement/decouvrez-le-balboa-3eme-session/
ATTACH;FMTTYPE=image/png:https://www.ecole-style-danse-71.eu/wp-content/uploads/2023/08/dance-4092691_1280-1.png
END:VEVENT
BEGIN:VEVENT
DTSTART;TZID=Europe/Paris:20231216T190000
DTEND;TZID=Europe/Paris:20231216T210000
DTSTAMP:20260422T154031
CREATED:20230815T185432Z
LAST-MODIFIED:20230815T185907Z
UID:962-1702753200-1702760400@www.ecole-style-danse-71.eu
SUMMARY:Découvez le Chachacha– 3ère session latino
DESCRIPTION:Découvrez la Chachacha lors du stage de danse le 16 décembre ! \n  \nPour les débutants (19h – 20h) : Si vous n’avez jamais dansé le Chachacha auparavant\, c’est l’opportunité idéale pour vous initier à cette danse unique. \n  \nPour les intermédiaires (20h – 21h) : Si vous avez déjà une expérience du Chachacha\, cette session est conçue pour vous faire progresser vers des niveaux plus avancés.
URL:https://www.ecole-style-danse-71.eu/evenement/chachacha-1ere-session-latino/
CATEGORIES:Stage
END:VEVENT
END:VCALENDAR