BEGIN:VCALENDAR
VERSION:2.0
PRODID:-//Style Danse 71 - ECPv6.2.0//NONSGML v1.0//EN
CALSCALE:GREGORIAN
METHOD:PUBLISH
X-WR-CALNAME:Style Danse 71
X-ORIGINAL-URL:https://www.ecole-style-danse-71.eu
X-WR-CALDESC:évènements pour Style Danse 71
REFRESH-INTERVAL;VALUE=DURATION:PT1H
X-Robots-Tag:noindex
X-PUBLISHED-TTL:PT1H
BEGIN:VTIMEZONE
TZID:Europe/Paris
BEGIN:DAYLIGHT
TZOFFSETFROM:+0100
TZOFFSETTO:+0200
TZNAME:CEST
DTSTART:20230326T010000
END:DAYLIGHT
BEGIN:STANDARD
TZOFFSETFROM:+0200
TZOFFSETTO:+0100
TZNAME:CET
DTSTART:20231029T010000
END:STANDARD
END:VTIMEZONE
BEGIN:VEVENT
DTSTART;TZID=Europe/Paris:20231006T190000
DTEND;TZID=Europe/Paris:20231006T210000
DTSTAMP:20260422T190743
CREATED:20230815T183850Z
LAST-MODIFIED:20230815T190235Z
UID:947-1696618800-1696626000@www.ecole-style-danse-71.eu
SUMMARY:Découvrez le Balboa ! - 1ère session
DESCRIPTION:Découvrez l’élégance du Balboa lors du stage de danse le 6 octobre ! \n  \nPour les débutants (19h – 20h) : Si vous n’avez jamais dansé le Balboa auparavant\, c’est l’opportunité idéale pour vous initier à cette danse unique. \n  \nPour les intermédiaires (20h – 21h) : Si vous avez déjà une expérience du Balboa\, cette session est conçue pour vous faire progresser vers des niveaux plus avancés.
URL:https://www.ecole-style-danse-71.eu/evenement/decouvrez-le-balboa/
CATEGORIES:Stage
ATTACH;FMTTYPE=image/png:https://www.ecole-style-danse-71.eu/wp-content/uploads/2023/08/dance-4092691_1280-1.png
END:VEVENT
BEGIN:VEVENT
DTSTART;TZID=Europe/Paris:20231021T190000
DTEND;TZID=Europe/Paris:20231021T210000
DTSTAMP:20260422T190743
CREATED:20230815T185259Z
LAST-MODIFIED:20230815T185843Z
UID:958-1697914800-1697922000@www.ecole-style-danse-71.eu
SUMMARY:Découvez la Bachata - 1ère session latino
DESCRIPTION:Découvrez la Bachata lors du stage de danse le 21 octobre ! \n  \nPour les débutants (19h – 20h) : Si vous n’avez jamais dansé le Bachata auparavant\, c’est l’opportunité idéale pour vous initier à cette danse unique. \n  \nPour les intermédiaires (20h – 21h) : Si vous avez déjà une expérience du Batchata\, cette session est conçue pour vous faire progresser vers des niveaux plus avancés.
URL:https://www.ecole-style-danse-71.eu/evenement/bachata-1ere-session-latino/
CATEGORIES:Stage
END:VEVENT
END:VCALENDAR